BEGIN:VCALENDAR
VERSION:2.0
PRODID:DPCALENDAR
CALSCALE:GREGORIAN
BEGIN:VTIMEZONE
TZID:America/Toronto
BEGIN:STANDARD
DTSTART:20251102T060000
TZOFFSETFROM:-0400
TZOFFSETTO:-0500
TZNAME:EST
END:STANDARD
BEGIN:STANDARD
DTSTART:20261101T060000
TZOFFSETFROM:-0400
TZOFFSETTO:-0500
TZNAME:EST
END:STANDARD
BEGIN:DAYLIGHT
DTSTART:20260308T070000
TZOFFSETFROM:-0500
TZOFFSETTO:-0400
TZNAME:EDT
END:DAYLIGHT
END:VTIMEZONE
X-WR-TIMEZONE:America/Toronto
BEGIN:VEVENT
DTSTART;VALUE=DATE:20251003
DTEND;VALUE=DATE:20251006
UID:417F59BD-F956-4DFB-A672-3541E2AB5678
SUMMARY:Fall Outing Weekend
CREATED:20240809T180132Z
DTSTAMP:20240809T180132Z
URL:https://torontocameraclub.com/dp-calendar/fall-outing-weekend-2
DESCRIPTION:Fall Outing Weekend - \NIf you require further information, email: TravelOutings@TorontoCameraClub.com
X-ALT-DESC;FMTTYPE=text/html:<p>Fall Outing Weekend -&nbsp;</p><p>If you require further information, email:&nbsp;<a href="mailto:TravelOutings@TorontoCameraClub.com">TravelOutings@TorontoCameraClub.com</a></p>
LAST-MODIFIED:20250818T003306Z
SEQUENCE:32250694
X-ACCESS:1
X-HITS:0
X-COLOR:c9e673
X-SHOW-END-TIME:1
END:VEVENT
BEGIN:VEVENT
DTSTART;VALUE=DATE:20260522
DTEND;VALUE=DATE:20260525
UID:A216DE2E-8C07-4FB7-A0C8-6C15AC4AAEBF
SUMMARY:Spring Outing Weekend - Orillia - Kirkfield
CREATED:20240213T003911Z
DTSTAMP:20240213T003911Z
URL:https://torontocameraclub.com/dp-calendar/spring-outing-weekend-2
DESCRIPTION:Spring Outing Weekend - Orillia - Kirkfield\NFriday, May 22, 2026 to Sunday, May 24, 2026\NBook your own hotel room:\N\NHoliday Inn -TBA\N\NFor further information, email: TravelOutings@TorontoCameraClub.com
X-ALT-DESC;FMTTYPE=text/html:<p>Spring Outing Weekend -&nbsp;Orillia - Kirkfield</p><p>Friday, May 22, 2026 to Sunday, May 24, 2026</p><p>Book your own hotel room:</p><ul><li>Holiday Inn -TBA</li></ul><p>For further information, email:&nbsp;<a href="mailto:TravelOutings@torontocameraclub.com">TravelOutings@TorontoCameraClub.com</a></p>
LAST-MODIFIED:20260312T160359Z
SEQUENCE:65546688
X-ACCESS:1
X-HITS:0
X-COLOR:c9e673
X-SHOW-END-TIME:1
END:VEVENT
END:VCALENDAR